BEGIN:VCALENDAR
VERSION:2.0
PRODID:-//The Islamic Cultural Institute - ECPv6.15.17//NONSGML v1.0//EN
CALSCALE:GREGORIAN
METHOD:PUBLISH
X-ORIGINAL-URL:https://icionline.org
X-WR-CALDESC:Events for The Islamic Cultural Institute
REFRESH-INTERVAL;VALUE=DURATION:PT1H
X-Robots-Tag:noindex
X-PUBLISHED-TTL:PT1H
BEGIN:VTIMEZONE
TZID:America/Detroit
BEGIN:DAYLIGHT
TZOFFSETFROM:-0500
TZOFFSETTO:-0400
TZNAME:EDT
DTSTART:20240310T070000
END:DAYLIGHT
BEGIN:STANDARD
TZOFFSETFROM:-0400
TZOFFSETTO:-0500
TZNAME:EST
DTSTART:20241103T060000
END:STANDARD
BEGIN:DAYLIGHT
TZOFFSETFROM:-0500
TZOFFSETTO:-0400
TZNAME:EDT
DTSTART:20250309T070000
END:DAYLIGHT
BEGIN:STANDARD
TZOFFSETFROM:-0400
TZOFFSETTO:-0500
TZNAME:EST
DTSTART:20251102T060000
END:STANDARD
BEGIN:DAYLIGHT
TZOFFSETFROM:-0500
TZOFFSETTO:-0400
TZNAME:EDT
DTSTART:20260308T070000
END:DAYLIGHT
BEGIN:STANDARD
TZOFFSETFROM:-0400
TZOFFSETTO:-0500
TZNAME:EST
DTSTART:20261101T060000
END:STANDARD
END:VTIMEZONE
BEGIN:VEVENT
DTSTART;TZID=America/Detroit:20251115T183000
DTEND;TZID=America/Detroit:20251115T183000
DTSTAMP:20260419T224632
CREATED:20251105T030721Z
LAST-MODIFIED:20251105T030908Z
UID:1668-1763231400-1763231400@icionline.org
SUMMARY:ICI Monthly Dinner - Nov 15th
DESCRIPTION:Join our November Monthly Dinner. Register Today!
URL:https://icionline.org/event/ici-monthly-dinner/
LOCATION:Islamic Cultural Institute\, 30115 Greater Mack Ave\, St Clair Shores\, MI\, 48082\, United States
ATTACH;FMTTYPE=image/png:https://icionline.org/wp-content/uploads/2025/11/ICI-Monthly-Dinner-Nov-2025-e1762311932472.png
END:VEVENT
BEGIN:VEVENT
DTSTART;TZID=America/Detroit:20251114T190000
DTEND;TZID=America/Detroit:20251114T193000
DTSTAMP:20260419T224632
CREATED:20251101T154915Z
LAST-MODIFIED:20251101T154915Z
UID:1665-1763146800-1763148600@icionline.org
SUMMARY:Weekly Friday Youth Program - Nov. 14th
DESCRIPTION:Choose Your Circle Wisely – The Power of Friendship. A two-part series with Hafiz Muzammil Khan
URL:https://icionline.org/event/weekly-friday-youth-program-nov-14th/
LOCATION:Islamic Cultural Institute\, 30115 Greater Mack Ave\, St Clair Shores\, MI\, 48082\, United States
ATTACH;FMTTYPE=image/png:https://icionline.org/wp-content/uploads/2025/11/Nov-Youth-Program-7-14th-1350-x-1080-px-e1762011324740.png
END:VEVENT
BEGIN:VEVENT
DTSTART;TZID=America/Detroit:20251107T190000
DTEND;TZID=America/Detroit:20251107T193000
DTSTAMP:20260419T224632
CREATED:20251101T153825Z
LAST-MODIFIED:20251101T154835Z
UID:1652-1762542000-1762543800@icionline.org
SUMMARY:Weekly Friday Youth Program - Nov. 7th
DESCRIPTION:Choose Your Circle Wisely – The Power of Friendship. A two-part series with Hafiz Muzammil Khan
URL:https://icionline.org/event/weekly-youth-program/
LOCATION:Islamic Cultural Institute\, 30115 Greater Mack Ave\, St Clair Shores\, MI\, 48082\, United States
ATTACH;FMTTYPE=image/png:https://icionline.org/wp-content/uploads/2025/11/Nov-Youth-Program-7-14th-1350-x-1080-px-e1762011324740.png
END:VEVENT
BEGIN:VEVENT
DTSTART;TZID=America/Detroit:20250330T100000
DTEND;TZID=America/Detroit:20250330T100000
DTSTAMP:20260419T224632
CREATED:20250330T031240Z
LAST-MODIFIED:20251101T153019Z
UID:1641-1743328800-1743328800@icionline.org
SUMMARY:Eid Al-Fitr
DESCRIPTION:EID Al-FITR is on SUN. MAR 30! Join us for the Eid Celebration\, with Takbirat starting at 9:30 AM. See the flyer for program details. Eid Mubarak! كل عام وأنتم بخير
URL:https://icionline.org/event/eid-al-fitr/
LOCATION:Islamic Cultural Institute\, 30115 Greater Mack Ave\, St Clair Shores\, MI\, 48082\, United States
ATTACH;FMTTYPE=image/png:https://icionline.org/wp-content/uploads/2025/03/Eid-Al-Fitr-2025-2-e1743304330705.png
END:VEVENT
BEGIN:VEVENT
DTSTART;TZID=America/Detroit:20250328T194500
DTEND;TZID=America/Detroit:20250328T194500
DTSTAMP:20260419T224632
CREATED:20250325T171518Z
LAST-MODIFIED:20250325T171519Z
UID:1635-1743191100-1743191100@icionline.org
SUMMARY:Friday Community Iftar - 3/28/2025
DESCRIPTION:Join us this Friday for a community Iftar. You are all invited. Iftars are free and fully sponsored. Kindly register for proper headcount. Ramadan Mubarak!
URL:https://icionline.org/event/friday-community-iftar-3-28-2025/
LOCATION:Islamic Cultural Institute\, 30115 Greater Mack Ave\, St Clair Shores\, MI\, 48082\, United States
ATTACH;FMTTYPE=image/png:https://icionline.org/wp-content/uploads/2025/03/Iftar-Friday-3-28-25-1-e1742922899356.png
END:VEVENT
BEGIN:VEVENT
DTSTART;TZID=America/Detroit:20250326T211500
DTEND;TZID=America/Detroit:20250327T063000
DTSTAMP:20260419T224632
CREATED:20250325T170254Z
LAST-MODIFIED:20250325T170316Z
UID:1614-1743023700-1743057000@icionline.org
SUMMARY:27th Night of Ramadan
DESCRIPTION:Join us this Wednesday at 9:15PM for I’tikaaf during the night of 27th of Ramadan . Insha’Allah we will have a full program starting with Isha and Taraweeh prayer\, short reminders\, and prayers throughout the night. We will also have potluck suhoor. May Allah accept our good deeds during this blessed time.
URL:https://icionline.org/event/1614/
LOCATION:Islamic Cultural Institute\, 30115 Greater Mack Ave\, St Clair Shores\, MI\, 48082\, United States
ATTACH;FMTTYPE=image/png:https://icionline.org/wp-content/uploads/2025/03/27TH-Night-2-e1742922164211.png
END:VEVENT
BEGIN:VEVENT
DTSTART;TZID=America/Detroit:20250322T193000
DTEND;TZID=America/Detroit:20250322T193000
DTSTAMP:20260419T224632
CREATED:20250325T170918Z
LAST-MODIFIED:20250325T170918Z
UID:1625-1742671800-1742671800@icionline.org
SUMMARY:Saturday Community Iftar - 3/22/2025
DESCRIPTION:Join us this Saturday for a community Iftar. You are all invited. Iftars are free and fully sponsored. Kindly register for proper headcount. Ramadan Mubarak!
URL:https://icionline.org/event/saturday-community-iftar-3-22-2025/
LOCATION:Islamic Cultural Institute\, 30115 Greater Mack Ave\, St Clair Shores\, MI\, 48082\, United States
ATTACH;FMTTYPE=image/png:https://icionline.org/wp-content/uploads/2025/03/Iftar-Saturday-3-22-25-e1742922545989.png
END:VEVENT
BEGIN:VEVENT
DTSTART;TZID=America/Detroit:20250322T180000
DTEND;TZID=America/Detroit:20250322T180000
DTSTAMP:20260419T224632
CREATED:20250228T182232Z
LAST-MODIFIED:20250228T182233Z
UID:1610-1742666400-1742666400@icionline.org
SUMMARY:Ramadan Quran Competition
DESCRIPTION:Bring your kids and join us at ICI for Ramadan Quran Competition. Prizes will be awarded on the first day of Eid insha’Allah
URL:https://icionline.org/event/ramadan-quran-competition-4/
LOCATION:Islamic Cultural Institute\, 30115 Greater Mack Ave\, St Clair Shores\, MI\, 48082\, United States
ATTACH;FMTTYPE=image/png:https://icionline.org/wp-content/uploads/2025/02/2025-Quran-Competition-e1740766635149.png
END:VEVENT
BEGIN:VEVENT
DTSTART;TZID=America/Detroit:20250321T221500
DTEND;TZID=America/Detroit:20250321T221500
DTSTAMP:20260419T224632
CREATED:20250228T181918Z
LAST-MODIFIED:20250228T181919Z
UID:1603-1742595300-1742595300@icionline.org
SUMMARY:Ramadan Quran Competition
DESCRIPTION:Bring your kids and join us at ICI for Ramadan Quran Competition. Prizes will be awarded on the first day of Eid insha’Allah
URL:https://icionline.org/event/ramadan-quran-competition-2/
LOCATION:Islamic Cultural Institute\, 30115 Greater Mack Ave\, St Clair Shores\, MI\, 48082\, United States
ATTACH;FMTTYPE=image/png:https://icionline.org/wp-content/uploads/2025/02/2025-Quran-Competition-e1740766635149.png
END:VEVENT
BEGIN:VEVENT
DTSTART;TZID=America/Detroit:20250321T193000
DTEND;TZID=America/Detroit:20250321T193000
DTSTAMP:20260419T224632
CREATED:20250325T171315Z
LAST-MODIFIED:20250325T171315Z
UID:1632-1742585400-1742585400@icionline.org
SUMMARY:Friday Community Iftar - 3/21/2025
DESCRIPTION:Join us this Friday for a community Iftar. You are all invited. Iftars are free and fully sponsored. Kindly register for proper headcount. Ramadan Mubarak!
URL:https://icionline.org/event/friday-community-iftar-3-21-2025-2/
LOCATION:Islamic Cultural Institute\, 30115 Greater Mack Ave\, St Clair Shores\, MI\, 48082\, United States
ATTACH;FMTTYPE=image/png:https://icionline.org/wp-content/uploads/2025/03/Iftar-Friday-3-21-25-e1742922783988.png
END:VEVENT
BEGIN:VEVENT
DTSTART;TZID=America/Detroit:20250315T191500
DTEND;TZID=America/Detroit:20250315T191500
DTSTAMP:20260419T224632
CREATED:20250325T170601Z
LAST-MODIFIED:20250325T170640Z
UID:1619-1742066100-1742066100@icionline.org
SUMMARY:Saturday Community Iftar - 3/15/2025
DESCRIPTION:Join us this Saturday for a community Iftar. You are all invited. Iftars are free and fully sponsored. Kindly register for proper headcount. Ramadan Mubarak!
URL:https://icionline.org/event/saturday-community-iftar-3-15-2025/
LOCATION:Islamic Cultural Institute\, 30115 Greater Mack Ave\, St Clair Shores\, MI\, 48082\, United States
ATTACH;FMTTYPE=image/png:https://icionline.org/wp-content/uploads/2025/03/Iftar-Saturday-3-15-25-e1742922348533.png
END:VEVENT
BEGIN:VEVENT
DTSTART;TZID=America/Detroit:20250315T180000
DTEND;TZID=America/Detroit:20250315T180000
DTSTAMP:20260419T224632
CREATED:20250228T182055Z
LAST-MODIFIED:20250228T182059Z
UID:1606-1742061600-1742061600@icionline.org
SUMMARY:Ramadan Quran Competition
DESCRIPTION:Bring your kids and join us at ICI for Ramadan Quran Competition. Prizes will be awarded on the first day of Eid insha’Allah
URL:https://icionline.org/event/ramadan-quran-competition-3/
LOCATION:Islamic Cultural Institute\, 30115 Greater Mack Ave\, St Clair Shores\, MI\, 48082\, United States
ATTACH;FMTTYPE=image/png:https://icionline.org/wp-content/uploads/2025/02/2025-Quran-Competition-e1740766635149.png
END:VEVENT
BEGIN:VEVENT
DTSTART;TZID=America/Detroit:20250314T221500
DTEND;TZID=America/Detroit:20250314T221500
DTSTAMP:20260419T224632
CREATED:20250228T181728Z
LAST-MODIFIED:20250228T181728Z
UID:1600-1741990500-1741990500@icionline.org
SUMMARY:Ramadan Quran Competition
DESCRIPTION:Bring your kids and join us at ICI for Ramadan Quran Competition. Prizes will be awarded on the first day of Eid insha’Allah
URL:https://icionline.org/event/ramadan-quran-competition/
LOCATION:Islamic Cultural Institute\, 30115 Greater Mack Ave\, St Clair Shores\, MI\, 48082\, United States
ATTACH;FMTTYPE=image/png:https://icionline.org/wp-content/uploads/2025/02/2025-Quran-Competition-e1740766635149.png
END:VEVENT
BEGIN:VEVENT
DTSTART;TZID=America/Detroit:20250314T191500
DTEND;TZID=America/Detroit:20250314T191500
DTSTAMP:20260419T224632
CREATED:20250325T171100Z
LAST-MODIFIED:20250325T171159Z
UID:1628-1741979700-1741979700@icionline.org
SUMMARY:Friday Community Iftar - 3/14/2025
DESCRIPTION:Join us this Friday for a community Iftar. You are all invited. Iftars are free and fully sponsored. Kindly register for proper headcount. Ramadan Mubarak!
URL:https://icionline.org/event/friday-community-iftar-3-21-2025/
LOCATION:Islamic Cultural Institute\, 30115 Greater Mack Ave\, St Clair Shores\, MI\, 48082\, United States
ATTACH;FMTTYPE=image/png:https://icionline.org/wp-content/uploads/2025/03/Iftar-Friday-3-14-25-e1742922638878.png
END:VEVENT
BEGIN:VEVENT
DTSTART;TZID=America/Detroit:20250308T180000
DTEND;TZID=America/Detroit:20250308T180000
DTSTAMP:20260419T224632
CREATED:20250210T053753Z
LAST-MODIFIED:20250212T032347Z
UID:1536-1741456800-1741456800@icionline.org
SUMMARY:ICI Annual Fundraising Iftar
DESCRIPTION:Join our Fundraising Iftar this Ramadan. Get your tickets today and support your masjid!
URL:https://icionline.org/event/ici-annual-fundraising-iftar/
LOCATION:Barrister Gardens Banquet\, 24225 Harper Ave\, St Clair Shores\, MI\, 48080
ATTACH;FMTTYPE=image/png:https://icionline.org/wp-content/uploads/2025/02/ICI-Fundraising-2025-Square-1-e1739329861360.png
END:VEVENT
BEGIN:VEVENT
DTSTART;TZID=America/Detroit:20250301T180000
DTEND;TZID=America/Detroit:20250301T180000
DTSTAMP:20260419T224632
CREATED:20250228T181033Z
LAST-MODIFIED:20250228T181034Z
UID:1592-1740852000-1740852000@icionline.org
SUMMARY:Saturday Community Iftar
DESCRIPTION:Join us this Saturday for a community Iftar. You are all invited. Iftars are free and fully sponsored. Kindly register for proper headcount. Ramadan Mubarak!
URL:https://icionline.org/event/saturday-community-iftar/
LOCATION:Islamic Cultural Institute\, 30115 Greater Mack Ave\, St Clair Shores\, MI\, 48082\, United States
ATTACH;FMTTYPE=image/png:https://icionline.org/wp-content/uploads/2025/02/Iftar-Saturday-3-1-25-e1740766214822.png
END:VEVENT
BEGIN:VEVENT
DTSTART;TZID=America/Detroit:20250228T200000
DTEND;TZID=America/Detroit:20250228T200000
DTSTAMP:20260419T224632
CREATED:20250228T181332Z
LAST-MODIFIED:20250228T181333Z
UID:1596-1740772800-1740772800@icionline.org
SUMMARY:First Day of Taraweeh Prayer
DESCRIPTION:Join us for the first day of Taraweeh at the ICI. Iqama tomorrow is at 8pm. Checkout the flyer for prayer schedule throughout the month of Ramadan. Ramadan Mubarak!
URL:https://icionline.org/event/first-day-of-taraweeh-prayer/
LOCATION:Islamic Cultural Institute\, 30115 Greater Mack Ave\, St Clair Shores\, MI\, 48082\, United States
ATTACH;FMTTYPE=image/png:https://icionline.org/wp-content/uploads/2025/02/Taraweeh-Schedule-2025-e1740766399441.png
END:VEVENT
BEGIN:VEVENT
DTSTART;TZID=America/Detroit:20250216T183000
DTEND;TZID=America/Detroit:20250216T183000
DTSTAMP:20260419T224632
CREATED:20250210T223143Z
LAST-MODIFIED:20250210T223320Z
UID:1540-1739730600-1739730600@icionline.org
SUMMARY:Sunday Youth Lecture
DESCRIPTION:📢 Join Us for this Sunday for a youth lecture with Shaykh Mohamed Almasmari \nThis is a brothers only event (15 years & up)
URL:https://icionline.org/event/sunday-youth-lecture/
LOCATION:Islamic Cultural Institute\, 30115 Greater Mack Ave\, St Clair Shores\, MI\, 48082\, United States
ATTACH;FMTTYPE=image/png:https://icionline.org/wp-content/uploads/2025/02/Sunday-ICI-Event-flyer.png
END:VEVENT
BEGIN:VEVENT
DTSTART;TZID=America/Detroit:20250215T210000
DTEND;TZID=America/Detroit:20250215T210000
DTSTAMP:20260419T224632
CREATED:20250208T215136Z
LAST-MODIFIED:20250210T053254Z
UID:1509-1739653200-1739653200@icionline.org
SUMMARY:Ping Pong Tournament
DESCRIPTION:🏓 Ping Pong Tournament at ICI! 🏆 \nWe are thrilled to announce a Ping Pong Tournament at ICI! 🎉 \nRegister now before registration closes on Feb 12. \nDon’t miss out on the fun\, competition\, and excitement – we can’t wait to see you there!🏓
URL:https://icionline.org/event/ping-pong-tournament/
LOCATION:Islamic Cultural Institute\, 30115 Greater Mack Ave\, St Clair Shores\, MI\, 48082\, United States
ATTACH;FMTTYPE=image/png:https://icionline.org/wp-content/uploads/2025/02/ICI-Ping-Pong-Tournament-e1739051188176.png
END:VEVENT
BEGIN:VEVENT
DTSTART;TZID=America/Detroit:20250208T183000
DTEND;TZID=America/Detroit:20250208T183000
DTSTAMP:20260419T224632
CREATED:20250208T202533Z
LAST-MODIFIED:20250208T215128Z
UID:1475-1739039400-1739039400@icionline.org
SUMMARY:ICI Monthly Dinner - February 2025
DESCRIPTION:Register Now \n📢 Join Us for Our Monthly Dinner! \nWe’re excited to host Dr. Mohammed Al Hallak & Sr. Hajir Alobaidi as they raise awareness on digestive health & colon cancer screening. \n📆 Saturday\, Feb 8\, 2025\n⏰ 6:30 PM\n📍 Islamic Cultural Institute \n✅ Early screening benefits\n✅ Lifestyle tips for better digestion\n✅ Managing risk factors \n📝 Register now: icionline.org/FebDinner25 \nDon’t miss this insightful evening—see you there!
URL:https://icionline.org/event/ici-monthly-dinner-february-2025/
LOCATION:Islamic Cultural Institute\, 30115 Greater Mack Ave\, St Clair Shores\, MI\, 48082\, United States
ATTACH;FMTTYPE=image/png:https://icionline.org/wp-content/uploads/2025/02/Monthly-Dinner-Feb-25-e1739048989526.png
END:VEVENT
END:VCALENDAR